BEGIN:VCALENDAR
PRODID:-//PUBBLE//agenda//NL
VERSION:2.0
METHOD:PUBLISH
BEGIN:VEVENT
DTSTART:20260429T120000Z
DTEND:20260429T150000Z
DTSTAMP:20260423T143359Z
UID:e5b975b0-0cc4-4a19-ad6d-7bb205d0e78e
CREATED:20260423T143359Z
NAME:Samen zijn 22 dewassenaarsekrant.nl
X-WR-CALNAME:Samen zijn 22
X-ALT-DESC;FMTTYPE=text/html:<a href='/agenda/2026/4/29/samen-zijn-22-21645'>/agenda/2026/4/29/samen-zijn-22-21645</a> || <h2><strong>Activiteiten 50+</strong></h2><p>Dag: Elke tweede woensdag van de maand</p><p>Tijd: 14:00 - 17:00</p><p>Door wie?: Samen zijn 22</p><p>Wat?: Samen - zijn middag&nbsp;</p><p>Goed om te weten: In de kantine van Blauw- Zwart</p><p>Voor meer informatie en activiteiten ga naar de website via de link: <a href="https://dekrachtvanwassenaar.nl/samen-zijn-22/" rel="noopener noreferrer" target="_blank">Samen-zijn 22</a></p>
DESCRIPTION:<a href='/agenda/2026/4/29/samen-zijn-22-21645'>/agenda/2026/4/29/samen-zijn-22-21645</a> || <h2><strong>Activiteiten 50+</strong></h2><p>Dag: Elke tweede woensdag van de maand</p><p>Tijd: 14:00 - 17:00</p><p>Door wie?: Samen zijn 22</p><p>Wat?: Samen - zijn middag&nbsp;</p><p>Goed om te weten: In de kantine van Blauw- Zwart</p><p>Voor meer informatie en activiteiten ga naar de website via de link: <a href="https://dekrachtvanwassenaar.nl/samen-zijn-22/" rel="noopener noreferrer" target="_blank">Samen-zijn 22</a></p>
LAST-MODIFIED:20260423T143359Z
LOCATION: BlauwZwart | dr.Mansveltkade 7 Wassenaar
SEQUENCE:0
STATUS:CONFIRMED
SUMMARY:Samen zijn 22
TRANSP:OPAQUE
END:VEVENT
END:VCALENDAR
