BEGIN:VCALENDAR
PRODID:-//PUBBLE//agenda//NL
VERSION:2.0
METHOD:PUBLISH
BEGIN:VEVENT
DTSTART:20260501T130000Z
DTEND:20260501T140000Z
DTSTAMP:20260423T143744Z
UID:43ae4535-93e5-47e4-bfed-3d395e49975d
CREATED:20260423T143744Z
NAME:Rksv Blauw-Zwart dewassenaarsekrant.nl
X-WR-CALNAME:Rksv Blauw-Zwart
X-ALT-DESC;FMTTYPE=text/html:<a href='/agenda/2026/5/1/rksv-blauw-zwart-21644'>/agenda/2026/5/1/rksv-blauw-zwart-21644</a> || <h2><strong>Activiteiten 50+</strong></h2><p>Dag: elke vrijdag</p><p>Tijd: 15:00</p><p>Door wie?: &nbsp;Rksv Blauw-Zwart&nbsp;</p><p>Wat?: Walking Football</p><p>Goed om te weten: -</p><p>Voor meer informatie ga naar de website via de link: <a href="https://www.blauwzwart.nl/" rel="noopener noreferrer" target="_blank">Blauwzwart.nl</a> of mail: josmargo@ziggo.nl</p>
DESCRIPTION:<a href='/agenda/2026/5/1/rksv-blauw-zwart-21644'>/agenda/2026/5/1/rksv-blauw-zwart-21644</a> || <h2><strong>Activiteiten 50+</strong></h2><p>Dag: elke vrijdag</p><p>Tijd: 15:00</p><p>Door wie?: &nbsp;Rksv Blauw-Zwart&nbsp;</p><p>Wat?: Walking Football</p><p>Goed om te weten: -</p><p>Voor meer informatie ga naar de website via de link: <a href="https://www.blauwzwart.nl/" rel="noopener noreferrer" target="_blank">Blauwzwart.nl</a> of mail: josmargo@ziggo.nl</p>
LAST-MODIFIED:20260423T143744Z
LOCATION: BlauwZwart | dr.Mansveltkade 7 Wassenaar
SEQUENCE:0
STATUS:CONFIRMED
SUMMARY:Rksv Blauw-Zwart
TRANSP:OPAQUE
END:VEVENT
END:VCALENDAR
