BEGIN:VCALENDAR
PRODID:-//PUBBLE//agenda//NL
VERSION:2.0
METHOD:PUBLISH
BEGIN:VEVENT
DTSTART:20260511T120000Z
DTEND:20260511T140000Z
DTSTAMP:20260422T180614Z
UID:e3f20fa8-5bc8-4be9-86b0-1dce923fe005
CREATED:20260422T180614Z
NAME:Amarosa Sophieke dewassenaarsekrant.nl
X-WR-CALNAME:Amarosa Sophieke
X-ALT-DESC;FMTTYPE=text/html:<a href='/agenda/2026/5/11/amarosa-sophieke-21643'>/agenda/2026/5/11/amarosa-sophieke-21643</a> || <h2><strong>Activiteiten 50+</strong></h2><p>Dag: elke maandag&nbsp;</p><p>Tijd: 14:00 - 16:00</p><p>Door wie?: Amarosa Sophieke</p><p>Wat?: Handwerkcafé</p><p>Goed om te weten: in de foyer/vrije inloop</p><p>Voor meer informatie en activiteiten ga naar de website via de link: <a href="https://amarosa.nl/nieuws/" rel="noopener noreferrer" target="_blank">Amarosa activiteiten</a> of bel:070-512 32 00&nbsp;</p>
DESCRIPTION:<a href='/agenda/2026/5/11/amarosa-sophieke-21643'>/agenda/2026/5/11/amarosa-sophieke-21643</a> || <h2><strong>Activiteiten 50+</strong></h2><p>Dag: elke maandag&nbsp;</p><p>Tijd: 14:00 - 16:00</p><p>Door wie?: Amarosa Sophieke</p><p>Wat?: Handwerkcafé</p><p>Goed om te weten: in de foyer/vrije inloop</p><p>Voor meer informatie en activiteiten ga naar de website via de link: <a href="https://amarosa.nl/nieuws/" rel="noopener noreferrer" target="_blank">Amarosa activiteiten</a> of bel:070-512 32 00&nbsp;</p>
LAST-MODIFIED:20260422T180614Z
LOCATION: Amarosa Sophieke | Van Zuylen van Nijeveltstraat 313 Wassenaar
SEQUENCE:0
STATUS:CONFIRMED
SUMMARY:Amarosa Sophieke
TRANSP:OPAQUE
END:VEVENT
END:VCALENDAR
