BEGIN:VCALENDAR
PRODID:-//PUBBLE//agenda//NL
VERSION:2.0
METHOD:PUBLISH
BEGIN:VEVENT
DTSTART:20260428T080000Z
DTEND:20260428T090000Z
DTSTAMP:20260422T175501Z
UID:8578cd2e-cf9f-4f14-bea0-7a05583d7c1e
CREATED:20260422T175501Z
NAME:Fit in Wassenaar dewassenaarsekrant.nl
X-WR-CALNAME:Fit in Wassenaar
X-ALT-DESC;FMTTYPE=text/html:<a href='/agenda/2026/4/28/fit-in-wassenaar-21642'>/agenda/2026/4/28/fit-in-wassenaar-21642</a> || <h2><strong>Activiteiten 50+</strong></h2><p>Dag: elke dinsdag&nbsp;</p><p>Tijd: 10:00 - 11:00</p><p>Door wie?: Fit in Wassenaar</p><p>Wat?: QR Fit wandelen met spierverstevigende oefeningen</p><p>Goed om te weten: Gratis beweegactiviteit met beweegcoach. Verzamelen bij brug over water bij parkeerplaats Sterrenbad.&nbsp;</p><p>Voor meer informatie en activiteiten ga naar de website via de link: <a href="http://www.fitinwassenaar.nl" rel="noopener noreferrer" target="_blank">www.fitinwassenaar.nl</a>&nbsp;</p><p><a href="https://www.dewassenaarsekrant.nl/agenda" target="_blank"></a></p>
DESCRIPTION:<a href='/agenda/2026/4/28/fit-in-wassenaar-21642'>/agenda/2026/4/28/fit-in-wassenaar-21642</a> || <h2><strong>Activiteiten 50+</strong></h2><p>Dag: elke dinsdag&nbsp;</p><p>Tijd: 10:00 - 11:00</p><p>Door wie?: Fit in Wassenaar</p><p>Wat?: QR Fit wandelen met spierverstevigende oefeningen</p><p>Goed om te weten: Gratis beweegactiviteit met beweegcoach. Verzamelen bij brug over water bij parkeerplaats Sterrenbad.&nbsp;</p><p>Voor meer informatie en activiteiten ga naar de website via de link: <a href="http://www.fitinwassenaar.nl" rel="noopener noreferrer" target="_blank">www.fitinwassenaar.nl</a>&nbsp;</p><p><a href="https://www.dewassenaarsekrant.nl/agenda" target="_blank"></a></p>
LAST-MODIFIED:20260422T175501Z
LOCATION: Sterrenbad (WZK-clubruimte) | Generaal Winkelmanlaan 2 Wassenaar
SEQUENCE:0
STATUS:CONFIRMED
SUMMARY:Fit in Wassenaar
TRANSP:OPAQUE
END:VEVENT
END:VCALENDAR
