BEGIN:VCALENDAR
PRODID:-//PUBBLE//agenda//NL
VERSION:2.0
METHOD:PUBLISH
BEGIN:VEVENT
DTSTART:20260422T080000Z
DTEND:20260422T090000Z
DTSTAMP:20260422T175441Z
UID:a186b336-d1af-4d1f-adbd-5ad5dac7e753
CREATED:20260422T175441Z
NAME:WOB dewassenaarsekrant.nl
X-WR-CALNAME:WOB
X-ALT-DESC;FMTTYPE=text/html:<a href='/agenda/2026/4/22/wob-21639'>/agenda/2026/4/22/wob-21639</a> || <h2>Activiteiten 50+</h2><p>Dag: elke maandag, woensdag, donderdag en vrijdag&nbsp;</p><p>Tijd: 10:00 - 11:00</p><p>Door wie?: WOB</p><p>Wat?: Aquagym (doelgroepenbad)</p><p>Goed om te weten: locatie: Sportplaza Sterrenbad</p><p>Voor meer activiteiten en informatie kijk op de website van WOB: <a href="https://www.wobactief.nl/activiteiten" rel="noopener noreferrer" target="_blank">WOB activiteiten</a></p>
DESCRIPTION:<a href='/agenda/2026/4/22/wob-21639'>/agenda/2026/4/22/wob-21639</a> || <h2>Activiteiten 50+</h2><p>Dag: elke maandag, woensdag, donderdag en vrijdag&nbsp;</p><p>Tijd: 10:00 - 11:00</p><p>Door wie?: WOB</p><p>Wat?: Aquagym (doelgroepenbad)</p><p>Goed om te weten: locatie: Sportplaza Sterrenbad</p><p>Voor meer activiteiten en informatie kijk op de website van WOB: <a href="https://www.wobactief.nl/activiteiten" rel="noopener noreferrer" target="_blank">WOB activiteiten</a></p>
LAST-MODIFIED:20260422T175441Z
LOCATION: Sterrenbad (WZK-clubruimte) | Generaal Winkelmanlaan 2 Wassenaar
SEQUENCE:0
STATUS:CONFIRMED
SUMMARY:WOB
TRANSP:OPAQUE
END:VEVENT
END:VCALENDAR
